BEGIN:VCALENDAR
VERSION:2.0
PRODID:-//ChamberMaster//Event Calendar 2.0//EN
METHOD:PUBLISH
X-PUBLISHED-TTL:P3D
REFRESH-INTERVAL:P3D
CALSCALE:GREGORIAN
BEGIN:VEVENT
DTSTART:20260418T170000Z
DTEND:20260418T190000Z
X-MICROSOFT-CDO-ALLDAYEVENT:FALSE
SUMMARY:BINGO IN GERYCH'S GREENHOUSE/ HOUSEPLANT EDITION-SOLD OUT
DESCRIPTION:The April Bingo has sold out. There is still space available for the May Edition \n\nNEW EVENT ALERT: PLANT BINGO AT GERYCH'S! ??\n\nWe're bringing something brand new to the greenhouse this spring! Join us for our first-ever Plant Bingo Series an afternoon of games\, greenery\, and great prizes. Whether you're a houseplant hoarder or just starting your garden\, this is the perfect way to spend a Saturday in Fenton.\n\nSESSION 1: APRIL SHOWERS (The Houseplant Edition)\n\nSaturday\, April 18th | 1PM - 3PM\n\nCelebrate our very first session! Every ticket includes a beautiful indoor houseplant to take home.\n\nSESSION 2: MAY FLOWERS (The Garden Starter Edition)\n\nSaturday\, May 16th | 1PM - 3PM\n\nGet ahead of the season! This session features garden starter plugs and annuals to jumpstart your summer patio.\n\nEACH SESSION FEATURES:\n\n5 Rounds of Bingo (New botanical format!)\n\nA take-home plant (Houseplant in April / Garden Starter in May)\n\nONE $50 CASH GRAND PRIZE winner per session!\n\nExclusive 20% Store-Wide Discount valid all day!\n\nTickets: $30\n\nGerych's Greenhouse | Fenton\, MI\n\nLimited to 32 seats per session! Since this is our inaugural series\, seats will go fast stop in or call to grab yours!
X-ALT-DESC;FMTTYPE=text/html:<span style="color:#212121"><span style="font-family:segoe ui emoji\,sans-serif"><span style="font-size:18px"><u><strong>The April Bingo has sold out. There is still space available for the May Edition&nbsp\;</strong></u></span></span></span><br />\n<span style="color:#212121">NEW EVENT ALERT: PLANT BINGO AT GERYCH&rsquo\;S! </span><span style="color:#212121"><span style="font-family:segoe ui emoji\,sans-serif">??</span></span><br />\n<span style="color:#212121">We&rsquo\;re bringing something brand new to the greenhouse this spring! Join us for our first-ever Plant Bingo Series&mdash\;an afternoon of games\, greenery\, and great prizes. Whether you&rsquo\;re a houseplant hoarder or just starting your garden\, this is the perfect way to spend a Saturday in Fenton.</span><br />\n<span style="color:#212121">SESSION 1: APRIL SHOWERS (The Houseplant Edition)</span><br />\n<span style="color:#212121">Saturday\, April 18th | 1PM - 3PM</span><br />\n<span style="color:#212121">Celebrate our very first session! Every ticket includes a beautiful indoor houseplant to take home.</span><br />\n<span style="color:#212121">SESSION 2: MAY FLOWERS (The Garden Starter Edition)</span><br />\n<span style="color:#212121">Saturday\, May 16th | 1PM - 3PM</span><br />\n<span style="color:#212121">Get ahead of the season! This session features garden starter plugs and annuals to jumpstart your summer patio.</span><br />\n<span style="color:#212121">EACH SESSION FEATURES:</span><br />\n<span style="color:#212121">5 Rounds of Bingo (New botanical format!)</span><br />\n<span style="color:#212121">A take-home plant (Houseplant in April / Garden Starter in May)</span><br />\n<span style="color:#212121">ONE $50 CASH GRAND PRIZE winner per session!</span><br />\n<span style="color:#212121">Exclusive 20% Store-Wide Discount valid all day!</span><br />\n<span style="color:#212121">Tickets: $30</span><br />\n<span style="color:#212121">Gerych&rsquo\;s Greenhouse | Fenton\, MI</span><br />\n<span style="font-size:16px"><span style="color:#212121">Limited to 32 seats per session! Since this is our inaugural series\, <strong>seats will go fast&mdash\;stop in or call to grab yours!</strong></span></span>
LOCATION:Gerych's Greenhouse 713 W. Silver Lake Rd. Fenton\, Mi 48430 810-629-5995
UID:e.1362.10358
SEQUENCE:3
DTSTAMP:20260424T012800Z
URL:https://business.fentonlindenchamber.com/events/details/bingo-in-gerych-s-greenhouse-houseplant-edition-10358
END:VEVENT

END:VCALENDAR
