BEGIN:VCALENDAR
VERSION:2.0
PRODID:-//ChamberMaster//Event Calendar 2.0//EN
METHOD:PUBLISH
X-PUBLISHED-TTL:P3D
REFRESH-INTERVAL:P3D
CALSCALE:GREGORIAN
BEGIN:VEVENT
DTSTART;VALUE=DATE:20260426
DTEND;VALUE=DATE:20260511
TRANSP:TRANSPARENT
X-MICROSOFT-CDO-ALLDAYEVENT:TRUE
SUMMARY:Goodwill Mid Michigan Spring Donation Drive
DESCRIPTION:Donate a box or bag of preloved items from April 26th-May 10th. You could win a $250 Visa gift card\, a $100 gift basket or a $50 gift basket by filling out our CAP survey to enter. Help us achieve our goal of 10\,000 donors and one lucky donor will also receive a $500 Goodwill Mid Michigan gift card.
X-ALT-DESC;FMTTYPE=text/html:Donate a box or bag of preloved items from April 26th-May 10th. You could win a $250 Visa gift card\, a $100 gift basket or a $50 gift basket by filling out our CAP survey to enter. Help us achieve our goal of 10\,000 donors and one lucky donor will also receive a $500 Goodwill Mid Michigan gift card.
LOCATION:Donate at any of our 16 Goodwill Mid Michigan locations.
UID:e.1362.10367
SEQUENCE:3
DTSTAMP:20260425T014142Z
URL:https://business.fentonlindenchamber.com/events/details/goodwill-mid-michigan-spring-donation-drive-10367
END:VEVENT

END:VCALENDAR
